BEGIN:VCALENDAR
VERSION:2.0
PRODID:-//Valley Forge Military Academy | Valley Forge Military College//NONSGML Events//EN
CALSCALE:GREGORIAN
X-WR-CALNAME:Valley Forge Military Academy | Valley Forge Military College - Events
X-ORIGINAL-URL:https://www.vfmac.edu/events/event/
X-WR-CALDESC:Valley Forge Military Academy | Valley Forge Military College - Events
BEGIN:VEVENT
UID:20250407T0419Z-1743999558.45-EO-1285-1@127.0.0.1
STATUS:CONFIRMED
DTSTAMP:20260424T062918Z
CREATED:20240718T212003Z
LAST-MODIFIED:20240718T212115Z
DTSTART;TZID=America/New_York:20241011T150000
DTEND;TZID=America/New_York:20241013T200000
SUMMARY: Parents Weekend
X-ALT-DESC;FMTTYPE=text/html: 
ORGANIZER;CN="Michael Blymier":MAILTO:mblymier@vfmac.edu
URL;VALUE=URI:https://www.vfmac.edu/events/event/parents-weekend/
END:VEVENT
BEGIN:VEVENT
UID:20250407T0419Z-1743999558.46-EO-1574-1@127.0.0.1
STATUS:CONFIRMED
DTSTAMP:20260424T062918Z
CREATED:20241003T174708Z
LAST-MODIFIED:20250109T152240Z
DTSTART;VALUE=DATE:20250404
DTEND;VALUE=DATE:20250405
SUMMARY: Alumni Celebration
DESCRIPTION: More details to follow.
X-ALT-DESC;FMTTYPE=text/html: <p>More details to follow.</p>
CATEGORIES:Alumni
ORGANIZER;CN="Michael Blymier":MAILTO:mblymier@vfmac.edu
URL;VALUE=URI:https://www.vfmac.edu/events/event/alumni-weekend/
END:VEVENT
BEGIN:VEVENT
UID:20250407T0419Z-1743999558.47-EO-1612-1@127.0.0.1
STATUS:CONFIRMED
DTSTAMP:20260424T062918Z
CREATED:20241011T191342Z
LAST-MODIFIED:20241011T191705Z
DTSTART;VALUE=DATE:20250405
DTEND;VALUE=DATE:20250406
SUMMARY: Alumni Celebration
X-ALT-DESC;FMTTYPE=text/html: 
CATEGORIES:Alumni
ORGANIZER;CN="Michael Blymier":MAILTO:mblymier@vfmac.edu
URL;VALUE=URI:https://www.vfmac.edu/events/event/alumni-celebration/
END:VEVENT
BEGIN:VEVENT
UID:20250407T0419Z-1743999558.48-EO-1575-1@127.0.0.1
STATUS:CONFIRMED
DTSTAMP:20260424T062918Z
CREATED:20241011T174723Z
LAST-MODIFIED:20250411T130550Z
DTSTART;VALUE=DATE:20250609
DTEND;VALUE=DATE:20250610
SUMMARY: Golf Classic
DESCRIPTION: Click here to register
X-ALT-DESC;FMTTYPE=text/html: <p class="body-text"><a href="/golfclassic">C
 lick here to register</a></p>
CATEGORIES:Alumni
ORGANIZER;CN="Michael Blymier":MAILTO:mblymier@vfmac.edu
URL;VALUE=URI:https://www.vfmac.edu/events/event/golf-outing/
END:VEVENT
BEGIN:VTIMEZONE
TZID:America/New_York
BEGIN:DAYLIGHT
TZOFFSETFROM:-0500
TZOFFSETTO:-0400
DTSTART:20240310T070000
TZNAME:EDT
END:DAYLIGHT
BEGIN:STANDARD
TZOFFSETFROM:-0400
TZOFFSETTO:-0500
DTSTART:20241103T060000
TZNAME:EST
END:STANDARD
BEGIN:DAYLIGHT
TZOFFSETFROM:-0500
TZOFFSETTO:-0400
DTSTART:20250309T070000
TZNAME:EDT
END:DAYLIGHT
END:VTIMEZONE
END:VCALENDAR
